BEGIN:VCALENDAR
VERSION:2.0
PRODID:-//Gloucester Writers Center - ECPv6.15.20//NONSGML v1.0//EN
CALSCALE:GREGORIAN
METHOD:PUBLISH
X-ORIGINAL-URL:http://archive.gloucesterwriters.org
X-WR-CALDESC:Events for Gloucester Writers Center
REFRESH-INTERVAL;VALUE=DURATION:PT1H
X-Robots-Tag:noindex
X-PUBLISHED-TTL:PT1H
BEGIN:VTIMEZONE
TZID:America/Halifax
BEGIN:DAYLIGHT
TZOFFSETFROM:-0400
TZOFFSETTO:-0300
TZNAME:ADT
DTSTART:20130310T060000
END:DAYLIGHT
BEGIN:STANDARD
TZOFFSETFROM:-0300
TZOFFSETTO:-0400
TZNAME:AST
DTSTART:20131103T050000
END:STANDARD
BEGIN:DAYLIGHT
TZOFFSETFROM:-0400
TZOFFSETTO:-0300
TZNAME:ADT
DTSTART:20140309T060000
END:DAYLIGHT
BEGIN:STANDARD
TZOFFSETFROM:-0300
TZOFFSETTO:-0400
TZNAME:AST
DTSTART:20141102T050000
END:STANDARD
BEGIN:DAYLIGHT
TZOFFSETFROM:-0400
TZOFFSETTO:-0300
TZNAME:ADT
DTSTART:20150308T060000
END:DAYLIGHT
BEGIN:STANDARD
TZOFFSETFROM:-0300
TZOFFSETTO:-0400
TZNAME:AST
DTSTART:20151101T050000
END:STANDARD
BEGIN:DAYLIGHT
TZOFFSETFROM:-0400
TZOFFSETTO:-0300
TZNAME:ADT
DTSTART:20160313T060000
END:DAYLIGHT
BEGIN:STANDARD
TZOFFSETFROM:-0300
TZOFFSETTO:-0400
TZNAME:AST
DTSTART:20161106T050000
END:STANDARD
BEGIN:DAYLIGHT
TZOFFSETFROM:-0400
TZOFFSETTO:-0300
TZNAME:ADT
DTSTART:20170312T060000
END:DAYLIGHT
BEGIN:STANDARD
TZOFFSETFROM:-0300
TZOFFSETTO:-0400
TZNAME:AST
DTSTART:20171105T050000
END:STANDARD
BEGIN:DAYLIGHT
TZOFFSETFROM:-0400
TZOFFSETTO:-0300
TZNAME:ADT
DTSTART:20180311T060000
END:DAYLIGHT
BEGIN:STANDARD
TZOFFSETFROM:-0300
TZOFFSETTO:-0400
TZNAME:AST
DTSTART:20181104T050000
END:STANDARD
BEGIN:DAYLIGHT
TZOFFSETFROM:-0400
TZOFFSETTO:-0300
TZNAME:ADT
DTSTART:20190310T060000
END:DAYLIGHT
BEGIN:STANDARD
TZOFFSETFROM:-0300
TZOFFSETTO:-0400
TZNAME:AST
DTSTART:20191103T050000
END:STANDARD
BEGIN:DAYLIGHT
TZOFFSETFROM:-0400
TZOFFSETTO:-0300
TZNAME:ADT
DTSTART:20200308T060000
END:DAYLIGHT
BEGIN:STANDARD
TZOFFSETFROM:-0300
TZOFFSETTO:-0400
TZNAME:AST
DTSTART:20201101T050000
END:STANDARD
BEGIN:DAYLIGHT
TZOFFSETFROM:-0400
TZOFFSETTO:-0300
TZNAME:ADT
DTSTART:20210314T060000
END:DAYLIGHT
BEGIN:STANDARD
TZOFFSETFROM:-0300
TZOFFSETTO:-0400
TZNAME:AST
DTSTART:20211107T050000
END:STANDARD
END:VTIMEZONE
BEGIN:VTIMEZONE
TZID:America/New_York
BEGIN:DAYLIGHT
TZOFFSETFROM:-0500
TZOFFSETTO:-0400
TZNAME:EDT
DTSTART:20150308T070000
END:DAYLIGHT
BEGIN:STANDARD
TZOFFSETFROM:-0400
TZOFFSETTO:-0500
TZNAME:EST
DTSTART:20151101T060000
END:STANDARD
BEGIN:DAYLIGHT
TZOFFSETFROM:-0500
TZOFFSETTO:-0400
TZNAME:EDT
DTSTART:20160313T070000
END:DAYLIGHT
BEGIN:STANDARD
TZOFFSETFROM:-0400
TZOFFSETTO:-0500
TZNAME:EST
DTSTART:20161106T060000
END:STANDARD
BEGIN:DAYLIGHT
TZOFFSETFROM:-0500
TZOFFSETTO:-0400
TZNAME:EDT
DTSTART:20170312T070000
END:DAYLIGHT
BEGIN:STANDARD
TZOFFSETFROM:-0400
TZOFFSETTO:-0500
TZNAME:EST
DTSTART:20171105T060000
END:STANDARD
END:VTIMEZONE
BEGIN:VEVENT
DTSTART;TZID=America/Halifax:20200429T193000
DTEND;TZID=America/Halifax:20200429T210000
DTSTAMP:20260425T010702
CREATED:20200212T173227Z
LAST-MODIFIED:20200426T185731Z
UID:9837-1588188600-1588194000@archive.gloucesterwriters.org
SUMMARY:Who's A Class Traitor Now? On Being A Working-Class Writer or a Miscreant Artist in New England
DESCRIPTION:Let’s have a conversation together about the specifics of being a class traitor in New England. We can define it together. Public figures like Eileen Myles (Arlington\, Massachusetts)\, Carl Andre (Quincy\, MA)\, and  Marsden Hartley (born in Maine; painted in Gloucester) will serve as touchstones. Together\, we will break down how often (but not always!) the writer\, the muse\, the artist and the artist’s model\, as categories\, engage in both class erasure and class fetishization. Half-lumpen\, semi-miscreant…how does the working class avant-garde\, be they writer or artist- traverse the classed rift between her origins and her work? \n  \nMary Walling Blackburn (born 1972) is a writer and artist\, currently living in New England.  Walling Blackburn’s work engages a wide spectrum of materials that probe and intensify the historic\, ecological\, and class-born brutalities of North American life. Forthcoming publications include “From the Gnome’s Genome to Trash DNA: Technologies of Ancestor Phantasy for a Final Generation” (e-flux journal). Other recent works include Quaestiones Perversas (Pioneer Works\, Brooklyn\, 2017)\, co-written with Beatriz E. Balanta; “Gina and the Stars” published by Tamawuj\, an off-site publishing platform for the Sharjah Bienniel 13 and “Slowness\,” a performance text in the sound-based web publication Ear│Wave│Event. Walling Blackburn’s writing has been featured in publications including Afterall\, BOMB\, Cabinet\, e-flux journal\, Grafter’s Quarterly\, Grey Room\, Pastelegram\, and Women and Performance.\n  \nShare this:\n				Share on Facebook (Opens in new window)\n				Facebook\n			\n				Share on X (Opens in new window)\n				X\n			\n				Share on Tumblr (Opens in new window)\n				Tumblr\n			\n				Share on LinkedIn (Opens in new window)\n				LinkedIn\n			\n				Share on Pinterest (Opens in new window)\n				Pinterest
URL:http://archive.gloucesterwriters.org/event/whose-a-class-traitor-now-on-being-a-working-class-writer-or-a-miscreant-artist-in-new-england/
LOCATION:Gloucester Writers Center\, 126 East Main Street\, Gloucester\, 01930
CATEGORIES:Writer in Residence
ATTACH;FMTTYPE=image/jpeg:http://archive.gloucesterwriters.org/wp-content/uploads/2020/02/mwb.jpg
END:VEVENT
BEGIN:VEVENT
DTSTART;TZID=America/Halifax:20190227T193000
DTEND;TZID=America/Halifax:20190227T210000
DTSTAMP:20260425T010702
CREATED:20181219T212015Z
LAST-MODIFIED:20190126T173630Z
UID:8777-1551295800-1551301200@archive.gloucesterwriters.org
SUMMARY:Dan Wilcox
DESCRIPTION:Dan Wilcox is the host of the Third Thursday Poetry Night at the Social Justice Center in Albany\, N.Y. and is a member of the poetry performance group “3 Guys from Albany”.  As a photographer\, he claims to have the world’s largest collection of photos of unknown poets.  He has been a featured reader at all the important poetry venues in the Capital District & throughout the Hudson Valley and is an active member of Veterans for Peace.\n\nHe also publishes poetry under the imprint\, A.P.D. (albany’s poetic device\, another pleasant day\, etc.).  His own poems have been published in  Post Traumatic Press 2007\, Chronogram\, Poetica and most recently in the anthology Ghost Fishing: an Eco-Justice Poetry Anthology and in other small press journals and anthologies\, on the internet\, as broadsides & in self-published chapbooks.  His chapbook Gloucester Notes is available from FootHills Publishing.  You can read his Blog at dwlcx.blogspot.com.\n\nShare this:\n				Share on Facebook (Opens in new window)\n				Facebook\n			\n				Share on X (Opens in new window)\n				X\n			\n				Share on Tumblr (Opens in new window)\n				Tumblr\n			\n				Share on LinkedIn (Opens in new window)\n				LinkedIn\n			\n				Share on Pinterest (Opens in new window)\n				Pinterest
URL:http://archive.gloucesterwriters.org/event/dan-wilcox/
LOCATION:Gloucester Writers Center\, 126 East Main Street\, Gloucester\, 01930
CATEGORIES:Events,Readings,Writer in Residence
ATTACH;FMTTYPE=image/jpeg:http://archive.gloucesterwriters.org/wp-content/uploads/2018/12/danwilcox2.jpg
END:VEVENT
BEGIN:VEVENT
DTSTART;TZID=America/Halifax:20190126T080000
DTEND;TZID=America/Halifax:20190126T170000
DTSTAMP:20260425T010702
CREATED:20190126T174657Z
LAST-MODIFIED:20190126T174657Z
UID:8914-1548489600-1548522000@archive.gloucesterwriters.org
SUMMARY:Brenda Coultas
DESCRIPTION:Brenda Coultas’ poetry can be found in the recent anthologies: Readings in Contemporary Poetry published by the  DIA art foundation\, What is Poetry (Just Kidding\, I Know You Know) Interviews from the Poetry Project newsletter\, (1983-2009) and Symmetries Three years of Art and Poetry at Dominque Levy. This fall Coultas was a featured blogger for Harriet\, at the Poetry Foundation.org and in Bomb\, Hurricane Review\, and other journals. Books include: The Tatters (Wesleyan)\, A Handmade Museum and The Marvelous Bones of Time (Coffee House Press). \nShare this:\n				Share on Facebook (Opens in new window)\n				Facebook\n			\n				Share on X (Opens in new window)\n				X\n			\n				Share on Tumblr (Opens in new window)\n				Tumblr\n			\n				Share on LinkedIn (Opens in new window)\n				LinkedIn\n			\n				Share on Pinterest (Opens in new window)\n				Pinterest
URL:http://archive.gloucesterwriters.org/event/brenda-coultas/
CATEGORIES:Events,Readings,Writer in Residence
ATTACH;FMTTYPE=image/jpeg:http://archive.gloucesterwriters.org/wp-content/uploads/2019/01/brendacoultas.jpg
END:VEVENT
BEGIN:VEVENT
DTSTART;TZID=America/Halifax:20170921T193000
DTEND;TZID=America/Halifax:20170921T210000
DTSTAMP:20260425T010702
CREATED:20170724T181731Z
LAST-MODIFIED:20170915T182321Z
UID:7765-1506022200-1506027600@archive.gloucesterwriters.org
SUMMARY:Kate Tarlow Morgan  “Memoirs of Places & Phrases” DATE CHANGED
DESCRIPTION:  \n “Memoirs of Places & Phrases” with Kate Tarlow Morgan \nKate Tarlow Morgan is a choreographer\, NEST (New England States Touring) Artist\, and grateful artist-in-residence at Gloucester Writers Center. She is editor-in-chief of Currents Journal for the Body-Mind Centering Association\, and editorial consultant for Lost & Found Poetics Document Initiative at C.U.N.Y-Center for Humanities. As sole archivist of The Rhythms FundamentalsÒ\, based on the study of human natural movement\, Kate teaches in local area schools and studios. Her book of essays and stories\, Circles & Boundaries\, was published in the same year that she co-edited Movement and Experience: A Body-Mind Centering Anthology\, 2011. \n  \nBorn and raised in New York City\, Kate worked as a documentary historian and urban archaeologist from 1979-1997\, during which she also worked as movement therapist in the Hasidic Satmar community in Brooklyn and with infants suffering from substance abuse in East Harlem. As a performer\, Kate has presented her work in site-based venues as well as theatrical spaces. She is grants recipient of Arts International\, Tides Research Grants\, and Council for Basic Education. \n  \nSignificantly\, in the last 6 years\, Kate has premiered several of her performance projects and events under the auspices of Gloucester Writers Center—including Bluesuit (2010); Fishglove (2011); The Proprioception Panel with Alcalay\, Franco\, Peters\, Slifer-Swift\, and Wagner (2012); Invisible Stories (2013) in collaboration with Sarah Slifer Swift; An Evening with Monsieur Teste (2014) with Barzaghi and Swift; and finally\, A Letter from a Friend (2016) with Kai Krienke and a puppet. \n  \nRecently\, Kate has been practicing silk-reeling with QiGong Master\, Thomas Garbarino; building a stairway to her attic holding all of the family papers; and working on a “memoir of phrases” inspired by Hettie Jones’ workshop at GWC this past July. \n \nShare this:\n				Share on Facebook (Opens in new window)\n				Facebook\n			\n				Share on X (Opens in new window)\n				X\n			\n				Share on Tumblr (Opens in new window)\n				Tumblr\n			\n				Share on LinkedIn (Opens in new window)\n				LinkedIn\n			\n				Share on Pinterest (Opens in new window)\n				Pinterest
URL:http://archive.gloucesterwriters.org/event/kate-tarlow-morgan-6/
LOCATION:Gloucester Writers Center\, 126 East Main Street\, Gloucester\, 01930
CATEGORIES:Events,Readings,Writer in Residence
ATTACH;FMTTYPE=image/jpeg:http://archive.gloucesterwriters.org/wp-content/uploads/2017/07/KTM-Spain-Mt..jpeg
END:VEVENT
BEGIN:VEVENT
DTSTART;TZID=America/Halifax:20170628T193000
DTEND;TZID=America/Halifax:20170628T210000
DTSTAMP:20260425T010702
CREATED:20170516T145255Z
LAST-MODIFIED:20170516T150805Z
UID:7670-1498678200-1498683600@archive.gloucesterwriters.org
SUMMARY:Richard Deming and Nancy Kuhl
DESCRIPTION:Richard Deming will read from his latest collection of poems\, Day for Night; the work takes its title from the cinematic term for shooting night scenes during the day. Deming’s complex lyricism explores the ways that art\, film\, music\, and literature creates possibilities for human encounter and interaction even as it considers the impossibilities of ever truly knowing others or ourselves.  Deming is an art critic as well as a poet; he studies and writes about the philosophy of literature and visual culture.  \nNancy Kuhl will from a recent chapbook about bird watching—and listening—called The Birds of the Year and from her recent full-length collection of poems\, Pine to Sound. In this work\, the mythic figure of Echo appears and recurs literally and sonically—punished for her incessant talking with the loss of all speech save her ability to repeat the last words she hears\, Echo here represents something of the powerful ways dialogue is always shot through with repetitions and echoes that both assert and occlude the emotional content of our speech.  \nRichard Deming’s collection of poems\, Let’s Not Call It Consequence (Shearsman\, 2008)\, received the 2009 Norma Farber First  Book Award from the Poetry Society of America. His new book of poems\,  Day for Night\, appeared last year.  Winner of the Berlin Prize in 2012\, he teaches at Yale University where he is the Director of Creative Writing. \nNancy Kuhl is the author of Pine to Sound\, Suspend\, and The Wife of the Left Hand and chapbooks including Little Winter Theater\, The Nocturnal Factory\, and In the Arbor.  She is Curator of Poetry of the Yale Collection of American Literature at the Beinecke Rare Book and Manuscript Library at Yale University. http://www.phylumpress.com/kuhl/ \nShare this:\n				Share on Facebook (Opens in new window)\n				Facebook\n			\n				Share on X (Opens in new window)\n				X\n			\n				Share on Tumblr (Opens in new window)\n				Tumblr\n			\n				Share on LinkedIn (Opens in new window)\n				LinkedIn\n			\n				Share on Pinterest (Opens in new window)\n				Pinterest
URL:http://archive.gloucesterwriters.org/event/richard-deming-nancy-kuhl/
CATEGORIES:Events,Readings,Writer in Residence
ATTACH;FMTTYPE=image/jpeg:http://archive.gloucesterwriters.org/wp-content/uploads/2017/05/marsland1.jpg
END:VEVENT
BEGIN:VEVENT
DTSTART;TZID=America/New_York:20160423T080000
DTEND;TZID=America/New_York:20160429T170000
DTSTAMP:20260425T010702
CREATED:20151005T170817Z
LAST-MODIFIED:20151005T170817Z
UID:6520-1461398400-1461949200@archive.gloucesterwriters.org
SUMMARY:Writer in Residence
DESCRIPTION:CA Conrad \nShare this:\n				Share on Facebook (Opens in new window)\n				Facebook\n			\n				Share on X (Opens in new window)\n				X\n			\n				Share on Tumblr (Opens in new window)\n				Tumblr\n			\n				Share on LinkedIn (Opens in new window)\n				LinkedIn\n			\n				Share on Pinterest (Opens in new window)\n				Pinterest
URL:http://archive.gloucesterwriters.org/event/writer-in-residence-4/
CATEGORIES:Writer in Residence
END:VEVENT
BEGIN:VEVENT
DTSTART;TZID=America/Halifax:20150822T080000
DTEND;TZID=America/Halifax:20150828T170000
DTSTAMP:20260425T010702
CREATED:20150123T183945Z
LAST-MODIFIED:20150123T183945Z
UID:5015-1440230400-1440781200@archive.gloucesterwriters.org
SUMMARY:Writer in Residence
DESCRIPTION:Michael Bazinski \nShare this:\n				Share on Facebook (Opens in new window)\n				Facebook\n			\n				Share on X (Opens in new window)\n				X\n			\n				Share on Tumblr (Opens in new window)\n				Tumblr\n			\n				Share on LinkedIn (Opens in new window)\n				LinkedIn\n			\n				Share on Pinterest (Opens in new window)\n				Pinterest
URL:http://archive.gloucesterwriters.org/event/writer-residence-11/
LOCATION:GWC\, 126 East  Main Street\, Gloucester\, MA\, 01930\, United States
CATEGORIES:Writer in Residence
END:VEVENT
BEGIN:VEVENT
DTSTART;TZID=America/Halifax:20150801T080000
DTEND;TZID=America/Halifax:20150807T170000
DTSTAMP:20260425T010702
CREATED:20150123T183830Z
LAST-MODIFIED:20150123T183830Z
UID:5014-1438416000-1438966800@archive.gloucesterwriters.org
SUMMARY:Writer in Residence
DESCRIPTION:Ron Silliman \nShare this:\n				Share on Facebook (Opens in new window)\n				Facebook\n			\n				Share on X (Opens in new window)\n				X\n			\n				Share on Tumblr (Opens in new window)\n				Tumblr\n			\n				Share on LinkedIn (Opens in new window)\n				LinkedIn\n			\n				Share on Pinterest (Opens in new window)\n				Pinterest
URL:http://archive.gloucesterwriters.org/event/writer-residence-10/
LOCATION:GWC\, 126 East  Main Street\, Gloucester\, MA\, 01930\, United States
CATEGORIES:Writer in Residence
END:VEVENT
BEGIN:VEVENT
DTSTART;VALUE=DATE:20141025
DTEND;VALUE=DATE:20141101
DTSTAMP:20260425T010702
CREATED:20140117T075745Z
LAST-MODIFIED:20140117T075745Z
UID:4081-1414195200-1414799999@archive.gloucesterwriters.org
SUMMARY:Writer in Residence
DESCRIPTION:Jennifer Bartlett \nShare this:\n				Share on Facebook (Opens in new window)\n				Facebook\n			\n				Share on X (Opens in new window)\n				X\n			\n				Share on Tumblr (Opens in new window)\n				Tumblr\n			\n				Share on LinkedIn (Opens in new window)\n				LinkedIn\n			\n				Share on Pinterest (Opens in new window)\n				Pinterest
URL:http://archive.gloucesterwriters.org/event/writer-residence-8/
LOCATION:GWC\, 126 East  Main Street\, Gloucester\, MA\, 01930\, United States
CATEGORIES:Writer in Residence
END:VEVENT
BEGIN:VEVENT
DTSTART;VALUE=DATE:20141017
DTEND;VALUE=DATE:20141021
DTSTAMP:20260425T010702
CREATED:20140117T075646Z
LAST-MODIFIED:20140117T075646Z
UID:4080-1413504000-1413849599@archive.gloucesterwriters.org
SUMMARY:Writer in Residence
DESCRIPTION:Ralph Maud \nShare this:\n				Share on Facebook (Opens in new window)\n				Facebook\n			\n				Share on X (Opens in new window)\n				X\n			\n				Share on Tumblr (Opens in new window)\n				Tumblr\n			\n				Share on LinkedIn (Opens in new window)\n				LinkedIn\n			\n				Share on Pinterest (Opens in new window)\n				Pinterest
URL:http://archive.gloucesterwriters.org/event/writer-residence-7/
LOCATION:GWC\, 126 East  Main Street\, Gloucester\, MA\, 01930\, United States
CATEGORIES:Writer in Residence
END:VEVENT
BEGIN:VEVENT
DTSTART;VALUE=DATE:20140920
DTEND;VALUE=DATE:20140927
DTSTAMP:20260425T010702
CREATED:20140117T075432Z
LAST-MODIFIED:20140117T075432Z
UID:4078-1411171200-1411775999@archive.gloucesterwriters.org
SUMMARY:Writer in Residence
DESCRIPTION:Jane Augustine \nShare this:\n				Share on Facebook (Opens in new window)\n				Facebook\n			\n				Share on X (Opens in new window)\n				X\n			\n				Share on Tumblr (Opens in new window)\n				Tumblr\n			\n				Share on LinkedIn (Opens in new window)\n				LinkedIn\n			\n				Share on Pinterest (Opens in new window)\n				Pinterest
URL:http://archive.gloucesterwriters.org/event/writer-residence-6/
LOCATION:GWC\, 126 East  Main Street\, Gloucester\, MA\, 01930\, United States
CATEGORIES:Writer in Residence
END:VEVENT
BEGIN:VEVENT
DTSTART;VALUE=DATE:20140802
DTEND;VALUE=DATE:20140810
DTSTAMP:20260425T010702
CREATED:20140117T075239Z
LAST-MODIFIED:20140117T075239Z
UID:4076-1406937600-1407628799@archive.gloucesterwriters.org
SUMMARY:Writer in Residence
DESCRIPTION:Paul Pines \nShare this:\n				Share on Facebook (Opens in new window)\n				Facebook\n			\n				Share on X (Opens in new window)\n				X\n			\n				Share on Tumblr (Opens in new window)\n				Tumblr\n			\n				Share on LinkedIn (Opens in new window)\n				LinkedIn\n			\n				Share on Pinterest (Opens in new window)\n				Pinterest
URL:http://archive.gloucesterwriters.org/event/writer-residence-5/
LOCATION:GWC\, 126 East  Main Street\, Gloucester\, MA\, 01930\, United States
CATEGORIES:Writer in Residence
END:VEVENT
BEGIN:VEVENT
DTSTART;VALUE=DATE:20140712
DTEND;VALUE=DATE:20140720
DTSTAMP:20260425T010702
CREATED:20140117T075129Z
LAST-MODIFIED:20140117T075129Z
UID:4075-1405123200-1405814399@archive.gloucesterwriters.org
SUMMARY:Writer in Residence
DESCRIPTION:Miriam Nichols \nShare this:\n				Share on Facebook (Opens in new window)\n				Facebook\n			\n				Share on X (Opens in new window)\n				X\n			\n				Share on Tumblr (Opens in new window)\n				Tumblr\n			\n				Share on LinkedIn (Opens in new window)\n				LinkedIn\n			\n				Share on Pinterest (Opens in new window)\n				Pinterest
URL:http://archive.gloucesterwriters.org/event/writer-residence-4/
LOCATION:GWC\, 126 East  Main Street\, Gloucester\, MA\, 01930\, United States
CATEGORIES:Writer in Residence
END:VEVENT
BEGIN:VEVENT
DTSTART;VALUE=DATE:20140621
DTEND;VALUE=DATE:20140630
DTSTAMP:20260425T010702
CREATED:20140117T074640Z
LAST-MODIFIED:20140117T074640Z
UID:4073-1403308800-1404086399@archive.gloucesterwriters.org
SUMMARY:Writer in Residence
DESCRIPTION:Fred Whitehead \nShare this:\n				Share on Facebook (Opens in new window)\n				Facebook\n			\n				Share on X (Opens in new window)\n				X\n			\n				Share on Tumblr (Opens in new window)\n				Tumblr\n			\n				Share on LinkedIn (Opens in new window)\n				LinkedIn\n			\n				Share on Pinterest (Opens in new window)\n				Pinterest
URL:http://archive.gloucesterwriters.org/event/writer-residence-3/
LOCATION:GWC\, 126 East  Main Street\, Gloucester\, MA\, 01930\, United States
CATEGORIES:Writer in Residence
END:VEVENT
BEGIN:VEVENT
DTSTART;VALUE=DATE:20140524
DTEND;VALUE=DATE:20140531
DTSTAMP:20260425T010702
CREATED:20140117T072120Z
LAST-MODIFIED:20140117T072120Z
UID:4068-1400889600-1401494399@archive.gloucesterwriters.org
SUMMARY:Writer in Residence
DESCRIPTION:Bob Podgurski \nShare this:\n				Share on Facebook (Opens in new window)\n				Facebook\n			\n				Share on X (Opens in new window)\n				X\n			\n				Share on Tumblr (Opens in new window)\n				Tumblr\n			\n				Share on LinkedIn (Opens in new window)\n				LinkedIn\n			\n				Share on Pinterest (Opens in new window)\n				Pinterest
URL:http://archive.gloucesterwriters.org/event/writer-residence-2/
LOCATION:GWC\, 126 East  Main Street\, Gloucester\, MA\, 01930\, United States
CATEGORIES:Writer in Residence
END:VEVENT
END:VCALENDAR